BEGIN:VCALENDAR
VERSION:2.0
METHOD:PUBLISH
PRODID:-//Expounit//EN
BEGIN:VEVENT
DTSTART:20260421T070000Z
DTEND:20260421T080000Z
DTSTAMP:20260420T114632Z
SUMMARY:MG Dystrybucja (art. kreatywne, zabawki) – Nowości WIOSNA LATO 2026. Pasja, nostalgia, relaks
UID:
STATUS:
LAST-MODIFIED:
LOCATION:https://streamyard.com/watch/CrKRmUQP3DrV
DESCRIPTION:MG Dystrybucja (art. kreatywne, zabawki) – Nowości WIOSNA LATO 2026. Pasja, nostalgia, relaks
END:VEVENT
END:VCALENDAR