BEGIN:VCALENDAR
VERSION:2.0
METHOD:PUBLISH
PRODID:-//Expounit//EN
BEGIN:VEVENT
DTSTART:20260422T070000Z
DTEND:20260422T080000Z
DTSTAMP:20260420T114750Z
SUMMARY:Mint Nation (zabawki, akcesoria) – Nowości WIOSNA LATO 2026. Design, który przyciągają uwagę
UID:
STATUS:
LAST-MODIFIED:
LOCATION:https://streamyard.com/watch/2cZm6jXzwGky
DESCRIPTION:Mint Nation (zabawki, akcesoria) – Nowości WIOSNA LATO 2026. Design, który przyciągają uwagę
END:VEVENT
END:VCALENDAR